BEGIN:VCALENDAR
VERSION:2.0
PRODID:-//Fechtboden Kurpfalz - ECPv6.15.20//NONSGML v1.0//EN
CALSCALE:GREGORIAN
METHOD:PUBLISH
X-ORIGINAL-URL:https://fechtboden-kurpfalz.de
X-WR-CALDESC:Veranstaltungen für Fechtboden Kurpfalz
REFRESH-INTERVAL;VALUE=DURATION:PT1H
X-Robots-Tag:noindex
X-PUBLISHED-TTL:PT1H
BEGIN:VTIMEZONE
TZID:UTC
BEGIN:STANDARD
TZOFFSETFROM:+0000
TZOFFSETTO:+0000
TZNAME:UTC
DTSTART:20240101T000000
END:STANDARD
END:VTIMEZONE
BEGIN:VTIMEZONE
TZID:Europe/Berlin
BEGIN:DAYLIGHT
TZOFFSETFROM:+0100
TZOFFSETTO:+0200
TZNAME:CEST
DTSTART:20240331T010000
END:DAYLIGHT
BEGIN:STANDARD
TZOFFSETFROM:+0200
TZOFFSETTO:+0100
TZNAME:CET
DTSTART:20241027T010000
END:STANDARD
BEGIN:DAYLIGHT
TZOFFSETFROM:+0100
TZOFFSETTO:+0200
TZNAME:CEST
DTSTART:20250330T010000
END:DAYLIGHT
BEGIN:STANDARD
TZOFFSETFROM:+0200
TZOFFSETTO:+0100
TZNAME:CET
DTSTART:20251026T010000
END:STANDARD
BEGIN:DAYLIGHT
TZOFFSETFROM:+0100
TZOFFSETTO:+0200
TZNAME:CEST
DTSTART:20260329T010000
END:DAYLIGHT
BEGIN:STANDARD
TZOFFSETFROM:+0200
TZOFFSETTO:+0100
TZNAME:CET
DTSTART:20261025T010000
END:STANDARD
END:VTIMEZONE
BEGIN:VEVENT
DTSTART;TZID=UTC:20260327T000000
DTEND;TZID=UTC:20260329T235959
DTSTAMP:20260424T152045
CREATED:20260117T085315Z
LAST-MODIFIED:20260131T123216Z
UID:491-1774569600-1774828799@fechtboden-kurpfalz.de
SUMMARY:Fechtseminar "Hieb-Stich-Schnitt"
DESCRIPTION:
URL:https://fechtboden-kurpfalz.de/event/fechtseminar-hieb-stich-schnitt/
END:VEVENT
BEGIN:VEVENT
DTSTART;TZID=UTC:20260313T000000
DTEND;TZID=UTC:20260315T235959
DTSTAMP:20260424T152045
CREATED:20260117T085433Z
LAST-MODIFIED:20260117T085433Z
UID:493-1773360000-1773619199@fechtboden-kurpfalz.de
SUMMARY:Mittelaltermarkt Mannheim
DESCRIPTION:
URL:https://fechtboden-kurpfalz.de/event/mittelaltermarkt-mannheim/
END:VEVENT
BEGIN:VEVENT
DTSTART;TZID=UTC:20251205T000000
DTEND;TZID=UTC:20251205T235959
DTSTAMP:20260424T152045
CREATED:20251008T112224Z
LAST-MODIFIED:20251008T112224Z
UID:433-1764892800-1764979199@fechtboden-kurpfalz.de
SUMMARY:Mitgliederversammlung 2025
DESCRIPTION:
URL:https://fechtboden-kurpfalz.de/event/mitgliederversammlung-2025/
END:VEVENT
BEGIN:VEVENT
DTSTART;TZID=UTC:20251128T000000
DTEND;TZID=UTC:20251130T235959
DTSTAMP:20260424T152045
CREATED:20251006T110230Z
LAST-MODIFIED:20251006T110230Z
UID:428-1764288000-1764547199@fechtboden-kurpfalz.de
SUMMARY:Seminar Langes Messer nach Lecküchner für Anfänger
DESCRIPTION:
URL:https://fechtboden-kurpfalz.de/event/seminar-langes-messer-nach-leckuechner-fuer-anfaenger/
END:VEVENT
BEGIN:VEVENT
DTSTART;TZID=Europe/Berlin:20251122T000000
DTEND;TZID=Europe/Berlin:20251123T235959
DTSTAMP:20260424T152045
CREATED:20251006T105925Z
LAST-MODIFIED:20251006T105925Z
UID:423-1763769600-1763942399@fechtboden-kurpfalz.de
SUMMARY:Berlin Buckler Bouts 2025
DESCRIPTION:
URL:https://fechtboden-kurpfalz.de/event/berlin-buckler-bouts-2025/
END:VEVENT
BEGIN:VEVENT
DTSTART;TZID=UTC:20251031T000000
DTEND;TZID=UTC:20251102T235959
DTSTAMP:20260424T152045
CREATED:20251006T110106Z
LAST-MODIFIED:20251006T110106Z
UID:425-1761868800-1762127999@fechtboden-kurpfalz.de
SUMMARY:Seminar I.33 für Fortgeschrittene
DESCRIPTION:
URL:https://fechtboden-kurpfalz.de/event/seminar-i-33-fuer-fortgeschrittene/
END:VEVENT
BEGIN:VEVENT
DTSTART;TZID=UTC:20250524T080000
DTEND;TZID=UTC:20250525T170000
DTSTAMP:20260424T152045
CREATED:20241129T000350Z
LAST-MODIFIED:20241129T000350Z
UID:175-1748073600-1748192400@fechtboden-kurpfalz.de
SUMMARY:Berlin Buckler Bouts
DESCRIPTION:
URL:https://fechtboden-kurpfalz.de/event/berlin-buckler-bouts/
END:VEVENT
BEGIN:VEVENT
DTSTART;TZID=UTC:20250510T000000
DTEND;TZID=UTC:20250510T235959
DTSTAMP:20260424T152045
CREATED:20250205T154848Z
LAST-MODIFIED:20250205T154848Z
UID:255-1746835200-1746921599@fechtboden-kurpfalz.de
SUMMARY:Katana Seminar
DESCRIPTION:
URL:https://fechtboden-kurpfalz.de/event/katana-seminar/
END:VEVENT
BEGIN:VEVENT
DTSTART;TZID=UTC:20250411T000000
DTEND;TZID=UTC:20250413T235959
DTSTAMP:20260424T152045
CREATED:20241205T155944Z
LAST-MODIFIED:20250205T155509Z
UID:193-1744329600-1744588799@fechtboden-kurpfalz.de
SUMMARY:Historisches Fechtseminar "Hieb – Stich – Schnitt"
DESCRIPTION:
URL:https://fechtboden-kurpfalz.de/event/fechtseminar-burglanfschaft/
END:VEVENT
BEGIN:VEVENT
DTSTART;TZID=UTC:20250307T000000
DTEND;TZID=UTC:20250307T235959
DTSTAMP:20260424T152045
CREATED:20250212T195758Z
LAST-MODIFIED:20250212T195758Z
UID:392-1741305600-1741391999@fechtboden-kurpfalz.de
SUMMARY:Offene Halle der Pfälzer Schwertlöwen
DESCRIPTION:
URL:https://fechtboden-kurpfalz.de/event/offene-halle-der-pfaelzer-schwertloewen/
END:VEVENT
BEGIN:VEVENT
DTSTART;TZID=UTC:20250301T000000
DTEND;TZID=UTC:20250301T235959
DTSTAMP:20260424T152045
CREATED:20250205T154814Z
LAST-MODIFIED:20250205T154814Z
UID:253-1740787200-1740873599@fechtboden-kurpfalz.de
SUMMARY:Smallsword Seminar
DESCRIPTION:
URL:https://fechtboden-kurpfalz.de/event/smallsword-seminar/
END:VEVENT
END:VCALENDAR