BEGIN:VCALENDAR
VERSION:2.0
PRODID:-//Fechtboden Kurpfalz - ECPv6.15.20//NONSGML v1.0//EN
CALSCALE:GREGORIAN
METHOD:PUBLISH
X-WR-CALNAME:Fechtboden Kurpfalz
X-ORIGINAL-URL:https://fechtboden-kurpfalz.de
X-WR-CALDESC:Veranstaltungen für Fechtboden Kurpfalz
REFRESH-INTERVAL;VALUE=DURATION:PT1H
X-Robots-Tag:noindex
X-PUBLISHED-TTL:PT1H
BEGIN:VTIMEZONE
TZID:UTC
BEGIN:STANDARD
TZOFFSETFROM:+0000
TZOFFSETTO:+0000
TZNAME:UTC
DTSTART:20250101T000000
END:STANDARD
END:VTIMEZONE
BEGIN:VEVENT
DTSTART;TZID=UTC:20260509T000000
DTEND;TZID=UTC:20260509T235959
DTSTAMP:20260424T133805
CREATED:20260117T085632Z
LAST-MODIFIED:20260117T085632Z
UID:495-1778284800-1778371199@fechtboden-kurpfalz.de
SUMMARY:Symphony of Steel Turnier
DESCRIPTION:
URL:https://fechtboden-kurpfalz.de/event/symphony-of-steel-turnier/
END:VEVENT
BEGIN:VEVENT
DTSTART;TZID=UTC:20260530T000000
DTEND;TZID=UTC:20260531T235959
DTSTAMP:20260424T133805
CREATED:20260117T085846Z
LAST-MODIFIED:20260117T085846Z
UID:497-1780099200-1780271999@fechtboden-kurpfalz.de
SUMMARY:Berlin Buckler Bouts
DESCRIPTION:
URL:https://fechtboden-kurpfalz.de/event/berlin-buckler-bouts-2/
END:VEVENT
BEGIN:VEVENT
DTSTART;TZID=UTC:20261017T000000
DTEND;TZID=UTC:20261017T235959
DTSTAMP:20260424T133805
CREATED:20251008T112324Z
LAST-MODIFIED:20251008T112324Z
UID:435-1792195200-1792281599@fechtboden-kurpfalz.de
SUMMARY:Mitgliederversammlung 2026
DESCRIPTION:
URL:https://fechtboden-kurpfalz.de/event/mitgliederversammlung-2026/
END:VEVENT
END:VCALENDAR